BEGIN:VCALENDAR
VERSION:2.0
PRODID:-//Schuppen 29 - ECPv6.0.7.1//NONSGML v1.0//EN
CALSCALE:GREGORIAN
METHOD:PUBLISH
X-ORIGINAL-URL:https://schuppen-29.com
X-WR-CALDESC:Veranstaltungen für Schuppen 29
REFRESH-INTERVAL;VALUE=DURATION:PT1H
X-Robots-Tag:noindex
X-PUBLISHED-TTL:PT1H
BEGIN:VTIMEZONE
TZID:Europe/Berlin
BEGIN:DAYLIGHT
TZOFFSETFROM:+0100
TZOFFSETTO:+0200
TZNAME:CEST
DTSTART:20250330T010000
END:DAYLIGHT
BEGIN:STANDARD
TZOFFSETFROM:+0200
TZOFFSETTO:+0100
TZNAME:CET
DTSTART:20251026T010000
END:STANDARD
END:VTIMEZONE
BEGIN:VEVENT
DTSTART;VALUE=DATE:20250801
DTEND;VALUE=DATE:20250901
DTSTAMP:20260425T141921
CREATED:20250614T181516Z
LAST-MODIFIED:20250614T181516Z
UID:2608-1754006400-1756684799@schuppen-29.com
SUMMARY:- Sommerpause -
DESCRIPTION:
URL:https://schuppen-29.com/veranstaltung/sommerpause-6/
END:VEVENT
END:VCALENDAR