BEGIN:VCALENDAR
VERSION:2.0
PRODID:-//Schuppen 29 - ECPv6.0.7.1//NONSGML v1.0//EN
CALSCALE:GREGORIAN
METHOD:PUBLISH
X-ORIGINAL-URL:https://schuppen-29.com
X-WR-CALDESC:Veranstaltungen für Schuppen 29
REFRESH-INTERVAL;VALUE=DURATION:PT1H
X-Robots-Tag:noindex
X-PUBLISHED-TTL:PT1H
BEGIN:VTIMEZONE
TZID:Europe/Berlin
BEGIN:DAYLIGHT
TZOFFSETFROM:+0100
TZOFFSETTO:+0200
TZNAME:CEST
DTSTART:20260329T010000
END:DAYLIGHT
BEGIN:STANDARD
TZOFFSETFROM:+0200
TZOFFSETTO:+0100
TZNAME:CET
DTSTART:20261025T010000
END:STANDARD
END:VTIMEZONE
BEGIN:VEVENT
DTSTART;TZID=Europe/Berlin:20260105T190000
DTEND;TZID=Europe/Berlin:20260105T210000
DTSTAMP:20260425T052756
CREATED:20251015T152919Z
LAST-MODIFIED:20260105T115405Z
UID:2673-1767639600-1767646800@schuppen-29.com
SUMMARY:Achtung: Offener Gesprächskreis wird wg. Krankheit verschoben!
DESCRIPTION:„Offener Gesprächskreis: Der Weg durch den Schmerz“ wird wegen Erkrankung einiger TN verschoben! Der neue Termin wird auf der Website und mit einem Aushang bekannt gegeben\, sobald er feststeht. \nBei unserem letzten Treffen zu „Was bewegt und berührt mich aktuell?“ vor drei Monaten haben wir uns über das Thema „Selbstliebe und Nächstenliebe – ein Widerspruch?“ ausgetauscht. Bei unserem kommenden Gesprächskreis am Montag\, d. 5. Januar 2026\, wollen wir uns über unsere Erfahrungen im Umgang mit Schmerz austauschen. Öffnet Schmerz-spüren Herzenstüren? \nWenn ihr zum Thema Anregungen habt (eigenes Erleben\, Texte u. a.)\, seid ihr herzlich eingeladen euch damit einzubringen! \nDieser Gesprächskreis ist offen für alle Interessierten. Herzlich willkommen zum einander Zuhören und zu einem achtungsvollen Austausch! \nMöchtest du gern einmal (oder öfter) dabei sein? Dann melde dich sehr gern bis zum 3. Januar 2026 an: 04506-550 (Ulrike) \nDu kannst Ulrike auch deine @-Adresse mailen\, wenn du in den Verteiler aufgenommen werden möchtest – für diesen Kreis oder auch für den größeren Verteiler vom SCHUPPEN 29 : kontakt@schuppen-29.com
URL:https://schuppen-29.com/veranstaltung/offener-gespraechskreis-der-weg-durch-den-schmerz/
CATEGORIES:Gespräch/Austausch
END:VEVENT
END:VCALENDAR