BEGIN:VCALENDAR
VERSION:2.0
PRODID:-//Schuppen 29 - ECPv6.0.7.1//NONSGML v1.0//EN
CALSCALE:GREGORIAN
METHOD:PUBLISH
X-WR-CALNAME:Schuppen 29
X-ORIGINAL-URL:https://schuppen-29.com
X-WR-CALDESC:Veranstaltungen für Schuppen 29
REFRESH-INTERVAL;VALUE=DURATION:PT1H
X-Robots-Tag:noindex
X-PUBLISHED-TTL:PT1H
BEGIN:VTIMEZONE
TZID:Europe/Berlin
BEGIN:DAYLIGHT
TZOFFSETFROM:+0100
TZOFFSETTO:+0200
TZNAME:CEST
DTSTART:20260329T010000
END:DAYLIGHT
BEGIN:STANDARD
TZOFFSETFROM:+0200
TZOFFSETTO:+0100
TZNAME:CET
DTSTART:20261025T010000
END:STANDARD
END:VTIMEZONE
BEGIN:VEVENT
DTSTART;TZID=Europe/Berlin:20260127T193000
DTEND;TZID=Europe/Berlin:20260127T203000
DTSTAMP:20260425T035510
CREATED:20260121T155535Z
LAST-MODIFIED:20260121T155535Z
UID:2760-1769542200-1769545800@schuppen-29.com
SUMMARY:Öle-Abend (Reika Mitchell)
DESCRIPTION:Zurück zu Dir\n\nKennst Du dieses Gefühl\,\nwenn im Außen alles laut ist\, Alltagsgewusel\, Stress...\nund etwas in Dir ganz leise flüstert:\nHalt an. Atme.\n\nGenau dann braucht es Räume wie diesen.\nRäume\, in denen Du gehalten wirst.\nIn denen Du atmen kannst.\nIn denen für einen kurzen Moment alles still steht.\n\nDarum lade ich Dich herzlich ein\,\nam 27.01. bei meinem ersten und einzigen Live-Abend hier im Schuppen 29 dabei zu sein.\n\nFünf Tage später breche ich nämlich - gemeinsam mit meinem Mann und unserer Tochter -\nin ein Abenteuer auf – wir wandern aus.\nRaus aus dem Bekannten.\nHin zu mehr Lebendigkeit.\nMehr Leichtigkeit.\nMehr Freude.\n\nUnser erstes Ziel: Bali – mein Seelenort.\n\nUnd genau diese Energie bringe ich an diesem Abend mit in den Schuppen.\n\nDich erwartet eine sanfte\, tiefgehende Traumreise\,\ndie Dich zurück in die Entspannung führt.\nZurück in Dein Innerstes –\ndorthin\, wo Deine Wahrheit\, Deine Sehnsucht\nund Deine innere Richtung liegen.\n\nBegleitet wird diese Reise von hochwertigen ätherischen Ölen\,\ndie Dich auf körperlicher\, emotionaler\nund energetischer Ebene unterstützen.\n\nDieser Abend ist keine Technik.\nKein Müssen.\nKein „noch besser werden“.\n\nEr ist ein Raum zum Ankommen.\nZum Loslassen.\nZum Erinnern.\n\n✨ Dieser Abend ist genau richtig für Dich\, wenn Du…\n  •    Dich schon länger fragst\, was Du Dir wirklich wünschst\n  •    tief entspannen und aus dem Gedankenkarussell aussteigen möchtest\n  •    wieder mehr Verbindung zu Dir selbst spüren willst\n  •    Dir einen bewussten Abend jenseits von Alltag & Funktionieren wünschst\n  •    Dich mit offenen\, gleichgesinnten Menschen verbinden möchtest\n  •    die Kraft der Natur und der Pflanzen auf einer neuen Ebene erleben willst\n\n📍 Ort: Arfrade\, Schuppen 29\n📅 Datum: 27.01. von 19:30 Uhr - 20:30 Uhr\n📩 Anmeldung: per WhatsApp oder Telefon\n📞 +49 174 9748527\n\nIch freue mich sehr darauf\,\ndiesen besonderen Abend mit Dir zu teilen.
URL:https://schuppen-29.com/veranstaltung/oele-abend-reika-mitchell/
CATEGORIES:Meditation
END:VEVENT
END:VCALENDAR