BEGIN:VCALENDAR
VERSION:2.0
PRODID:-//Schuppen 29 - ECPv6.0.7.1//NONSGML v1.0//EN
CALSCALE:GREGORIAN
METHOD:PUBLISH
X-WR-CALNAME:Schuppen 29
X-ORIGINAL-URL:https://schuppen-29.com
X-WR-CALDESC:Veranstaltungen für Schuppen 29
REFRESH-INTERVAL;VALUE=DURATION:PT1H
X-Robots-Tag:noindex
X-PUBLISHED-TTL:PT1H
BEGIN:VTIMEZONE
TZID:Europe/Berlin
BEGIN:DAYLIGHT
TZOFFSETFROM:+0100
TZOFFSETTO:+0200
TZNAME:CEST
DTSTART:20260329T010000
END:DAYLIGHT
BEGIN:STANDARD
TZOFFSETFROM:+0200
TZOFFSETTO:+0100
TZNAME:CET
DTSTART:20261025T010000
END:STANDARD
END:VTIMEZONE
BEGIN:VEVENT
DTSTART;TZID=Europe/Berlin:20260426T193000
DTEND;TZID=Europe/Berlin:20260426T210000
DTSTAMP:20260424T175226
CREATED:20260413T131528Z
LAST-MODIFIED:20260413T131528Z
UID:2797-1777231800-1777237200@schuppen-29.com
SUMMARY:Arfrader Singkreis
DESCRIPTION:Hast du Lust mal wieder mit anderen zusammen zu singen? Dann komme in unseren Kreis\, um Taizé- und andere Lieder zu singen. Bringe gern auch dein Lieblingslied mit! Du brauchst hierfür keine Vorkenntnisse\, nur Freude am gemeinsamen Singen. \nSage uns bitte möglichst bis einen Tag vorher Bescheid\, ob du dabei sein möchtest – danke! (Tel. 04506-550 \nDie Teilnahme ist kostenfrei – – – eine Spende (für Heizung\, Raumpflege etc.) ist willkommen.
URL:https://schuppen-29.com/veranstaltung/arfrader-singkreis-2/
CATEGORIES:Spiele/Andere
END:VEVENT
END:VCALENDAR