BEGIN:VCALENDAR
VERSION:2.0
PRODID:-//Schuppen 29 - ECPv6.0.7.1//NONSGML v1.0//EN
CALSCALE:GREGORIAN
METHOD:PUBLISH
X-ORIGINAL-URL:https://schuppen-29.com
X-WR-CALDESC:Veranstaltungen für Schuppen 29
REFRESH-INTERVAL;VALUE=DURATION:PT1H
X-Robots-Tag:noindex
X-PUBLISHED-TTL:PT1H
BEGIN:VTIMEZONE
TZID:Europe/Berlin
BEGIN:DAYLIGHT
TZOFFSETFROM:+0100
TZOFFSETTO:+0200
TZNAME:CEST
DTSTART:20250330T010000
END:DAYLIGHT
BEGIN:STANDARD
TZOFFSETFROM:+0200
TZOFFSETTO:+0100
TZNAME:CET
DTSTART:20251026T010000
END:STANDARD
END:VTIMEZONE
BEGIN:VEVENT
DTSTART;VALUE=DATE:20250801
DTEND;VALUE=DATE:20250901
DTSTAMP:20260425T123925
CREATED:20250614T181516Z
LAST-MODIFIED:20250614T181516Z
UID:2608-1754006400-1756684799@schuppen-29.com
SUMMARY:- Sommerpause -
DESCRIPTION:
URL:https://schuppen-29.com/veranstaltung/sommerpause-6/
END:VEVENT
BEGIN:VEVENT
DTSTART;TZID=Europe/Berlin:20250817T200000
DTEND;TZID=Europe/Berlin:20250817T212000
DTSTAMP:20260425T123925
CREATED:20250821T121807Z
LAST-MODIFIED:20250901T091938Z
UID:2627-1755460800-1755465600@schuppen-29.com
SUMMARY:Lieder zusammen singen (Georg und Ulrike)
DESCRIPTION:Hast du Lust mal wieder mit anderen zusammen zu singen? Dann komme gern zu unserem 9. Treffen\, um Taizé- und andere Lieder zu singen! Oder bringe dein Lieblingslied mit! Du brauchst hierfür keine Vorkenntnisse\, nur Freude am gemeinsamen Singen.
URL:https://schuppen-29.com/veranstaltung/lieder-zusammen-singen-carla-georg-und-ulrike-2/
CATEGORIES:Spiele/Andere
END:VEVENT
BEGIN:VEVENT
DTSTART;TZID=Europe/Berlin:20250824T193000
DTEND;TZID=Europe/Berlin:20250824T203000
DTSTAMP:20260425T123925
CREATED:20250821T121944Z
LAST-MODIFIED:20250821T121944Z
UID:2629-1756063800-1756067400@schuppen-29.com
SUMMARY:Lieder zusammen singen (Carla\, Georg und Ulrike)
DESCRIPTION:Hast du Lust mal wieder mit anderen zusammen zu singen? Dann komme gern zu unserem 10. Treffen\, um Taizé- und andere Lieder zu singen! Oder bringe dein Lieblingslied mit! Du brauchst hierfür keine Vorkenntnisse\, nur Freude am gemeinsamen Singen.
URL:https://schuppen-29.com/veranstaltung/lieder-zusammen-singen-carla-georg-und-ulrike-3/
CATEGORIES:Spiele/Andere
END:VEVENT
END:VCALENDAR