BEGIN:VCALENDAR
VERSION:2.0
PRODID:-//Schuppen 29 - ECPv6.0.7.1//NONSGML v1.0//EN
CALSCALE:GREGORIAN
METHOD:PUBLISH
X-ORIGINAL-URL:https://schuppen-29.com
X-WR-CALDESC:Veranstaltungen für Schuppen 29
REFRESH-INTERVAL;VALUE=DURATION:PT1H
X-Robots-Tag:noindex
X-PUBLISHED-TTL:PT1H
BEGIN:VTIMEZONE
TZID:Europe/Berlin
BEGIN:DAYLIGHT
TZOFFSETFROM:+0100
TZOFFSETTO:+0200
TZNAME:CEST
DTSTART:20260329T010000
END:DAYLIGHT
BEGIN:STANDARD
TZOFFSETFROM:+0200
TZOFFSETTO:+0100
TZNAME:CET
DTSTART:20261025T010000
END:STANDARD
END:VTIMEZONE
BEGIN:VEVENT
DTSTART;TZID=Europe/Berlin:20260313T190000
DTEND;TZID=Europe/Berlin:20260313T210000
DTSTAMP:20260425T004005
CREATED:20260305T175508Z
LAST-MODIFIED:20260305T175508Z
UID:2776-1773428400-1773435600@schuppen-29.com
SUMMARY:Meditation- Zeit in Stille
DESCRIPTION:
URL:https://schuppen-29.com/veranstaltung/meditation-zeit-in-stille/
CATEGORIES:Meditation
END:VEVENT
BEGIN:VEVENT
DTSTART;TZID=Europe/Berlin:20260320T203000
DTEND;TZID=Europe/Berlin:20260320T213000
DTSTAMP:20260425T004005
CREATED:20251022T191956Z
LAST-MODIFIED:20260305T175411Z
UID:2691-1774038600-1774042200@schuppen-29.com
SUMMARY:Film "Water is Love" (62 Min.)
DESCRIPTION:Anlässlich des World Water Day 2025 wurde dieser Film über die Tamera-Gemeinschaft in Portugal herausgegeben. \nZur Info (von der TU Dresden\, übersetzt mit Deepl): Der letztjährige UN-Weltwassertag am 22. März\, der vom ersten UN-Welttag für Gletscher am 21. März 2025 begleitet wurde\, stellte die lebenswichtige Rolle der Gletscher als Süßwasserspeicher für funktionierende und gesunde Ökosysteme in den Mittelpunkt. Die Gletscher schmelzen jedoch schneller als je zuvor. Dadurch wird der globale Wasserkreislauf zunehmend unberechenbar – mit weit reichenden Folgen für unzählige Gemeinschaften und Ökosysteme. \n*Alle Filmvorstellungen im Schuppen 29 sind private Veranstaltungen. Anmeldung bitte bis Mittwoch\, d. 18.03.26\, bei Ulrike (04506/550)  \nHerzlich willkommen!
URL:https://schuppen-29.com/veranstaltung/film-water-is-love/
CATEGORIES:Filme/Literatur
END:VEVENT
END:VCALENDAR