BEGIN:VCALENDAR
VERSION:2.0
PRODID:-//Schuppen 29 - ECPv6.0.7.1//NONSGML v1.0//EN
CALSCALE:GREGORIAN
METHOD:PUBLISH
X-ORIGINAL-URL:https://schuppen-29.com
X-WR-CALDESC:Veranstaltungen für Schuppen 29
REFRESH-INTERVAL;VALUE=DURATION:PT1H
X-Robots-Tag:noindex
X-PUBLISHED-TTL:PT1H
BEGIN:VTIMEZONE
TZID:Europe/Berlin
BEGIN:DAYLIGHT
TZOFFSETFROM:+0100
TZOFFSETTO:+0200
TZNAME:CEST
DTSTART:20260329T010000
END:DAYLIGHT
BEGIN:STANDARD
TZOFFSETFROM:+0200
TZOFFSETTO:+0100
TZNAME:CET
DTSTART:20261025T010000
END:STANDARD
END:VTIMEZONE
BEGIN:VEVENT
DTSTART;TZID=Europe/Berlin:20260506T190000
DTEND;TZID=Europe/Berlin:20260506T203000
DTSTAMP:20260424T180008
CREATED:20260316T183012Z
LAST-MODIFIED:20260316T183012Z
UID:2786-1778094000-1778099400@schuppen-29.com
SUMMARY:Yoga (Silke Krüger)
DESCRIPTION:
URL:https://schuppen-29.com/veranstaltung/yoga-silke-krueger-91/
CATEGORIES:Yoga/Tanz
END:VEVENT
BEGIN:VEVENT
DTSTART;TZID=Europe/Berlin:20260513T190000
DTEND;TZID=Europe/Berlin:20260513T203000
DTSTAMP:20260424T180008
CREATED:20260316T183051Z
LAST-MODIFIED:20260316T183051Z
UID:2788-1778698800-1778704200@schuppen-29.com
SUMMARY:Yoga (Silke Krüger)
DESCRIPTION:
URL:https://schuppen-29.com/veranstaltung/yoga-silke-krueger-92/
CATEGORIES:Yoga/Tanz
END:VEVENT
BEGIN:VEVENT
DTSTART;TZID=Europe/Berlin:20260527T190000
DTEND;TZID=Europe/Berlin:20260527T203000
DTSTAMP:20260424T180008
CREATED:20260316T183129Z
LAST-MODIFIED:20260423T170240Z
UID:2790-1779908400-1779913800@schuppen-29.com
SUMMARY:Yoga (Silke Krüger)
DESCRIPTION:
URL:https://schuppen-29.com/veranstaltung/yoga-silke-krueger-93/
CATEGORIES:Yoga/Tanz
END:VEVENT
END:VCALENDAR